BEGIN:VCALENDAR
VERSION:2.0
PRODID:-//Covenant International Schools - ECPv6.15.20//NONSGML v1.0//EN
CALSCALE:GREGORIAN
METHOD:PUBLISH
X-WR-CALNAME:Covenant International Schools
X-ORIGINAL-URL:https://covenantinternationalschools.net
X-WR-CALDESC:Events for Covenant International Schools
REFRESH-INTERVAL;VALUE=DURATION:PT1H
X-Robots-Tag:noindex
X-PUBLISHED-TTL:PT1H
BEGIN:VTIMEZONE
TZID:UTC
BEGIN:STANDARD
TZOFFSETFROM:+0000
TZOFFSETTO:+0000
TZNAME:UTC
DTSTART:20230101T000000
END:STANDARD
END:VTIMEZONE
BEGIN:VEVENT
DTSTART;TZID=UTC:20241205T000000
DTEND;TZID=UTC:20241205T235959
DTSTAMP:20260423T183801
CREATED:20241130T152751Z
LAST-MODIFIED:20241130T152751Z
UID:1542-1733356800-1733443199@covenantinternationalschools.net
SUMMARY:End of Term 3 2024
DESCRIPTION:
URL:https://covenantinternationalschools.net/event/end-of-term-3-2024-2/
CATEGORIES:Academic Events,Club Events,Sports Events
END:VEVENT
END:VCALENDAR